BEGIN:VCALENDAR
VERSION:2.0
PRODID:Events Booking
BEGIN:VEVENT
UID:69e793cbe0ef7
SUMMARY:Stammtisch beim \"Kraxnwirt-Ergolding\"
DESCRIPTION:
LOCATION:Etzstraße\, Ergolding\, 84030 Bayern\, Deutschland
DTSTART:20260626T170000Z
DTSTAMP:20260416T185903Z
ORGANIZER;CN=H.O.G. Niederbayern Chapter e.V.:MAILTO:webmaster@niederbayern
 -chapter.de
GEO:48.564405;12.176625
X-APPLE-STRUCTURED-LOCATION;VALUE=URI;X-ADDRESS=Etzstraße\, Ergolding\, 84
 030 Bayern\, Deutschland;X-APPLE-RADIUS=72;X-TITLE=zum Kraxnwirt:48.564405
 ;12.176625
END:VEVENT
END:VCALENDAR