BEGIN:VCALENDAR
VERSION:2.0
PRODID:Events Booking
BEGIN:VEVENT
UID:69e77f78aaaf1
SUMMARY:Stammtisch beim \"Betz\"
DESCRIPTION:Herzlich willkommen zu unserem Stammtisch des H.O.G. Niederbaye
 rn Chapters im Gasthaus Betz.
 Hier treffen sich regelmäßig Mitglieder\
 , Freunde\, Interessierte und alle\, die die Leidenschaft für Harley-Davi
 dson teilen – zum Austausch\, für Gespräche über Touren und Technik o
 der einfach für einen geselligen Abend unter Gleichgesinnten.
 Gäste si
 nd jederzeit herzlich willkommen.Eine kurze Anmeldung vorab hilft uns bei 
 der Planung.
 Denn das Harley-Lebensgefühl entsteht nicht allein auf der
  Straße\, sondern in der Gemeinschaft.
LOCATION:Oberglaim 15\, 84030 Ergolding
DTSTART:20260410T170000Z
DTEND:20260410T200000Z
DTSTAMP:20260303T115632Z
ORGANIZER;CN=H.O.G. Niederbayern Chapter e.V.:MAILTO:webmaster@niederbayern
 -chapter.de
GEO:48.609119;12.112647
X-APPLE-STRUCTURED-LOCATION;VALUE=URI;X-ADDRESS=Oberglaim 15\, 84030 Ergold
 ing;X-APPLE-RADIUS=72;X-TITLE=Gasthaus Betz:48.609119;12.112647
END:VEVENT
END:VCALENDAR