BEGIN:VCALENDAR
VERSION:2.0
PRODID:Events Booking
BEGIN:VEVENT
UID:69e77fee5850e
SUMMARY:Charity tour zum Pflegeheim Unterföhring
DESCRIPTION:Details folgen zeitnah.Road Captain: Django
DTSTART:20260208T070000Z
DTEND:20260208T170000Z
DTSTAMP:20260303T064232Z
ORGANIZER;CN=H.O.G. Niederbayern Chapter e.V.:MAILTO:webmaster@niederbayern
 -chapter.de
END:VEVENT
END:VCALENDAR